BEGIN:VCALENDAR
VERSION:2.0
PRODID:-//http://gutshof-lindstedt.de///NONSGML kigkonsult.se iCalcreator 2.10.15//
METHOD:PUBLISH
BEGIN:VEVENT
UID:20260420T202756CEST-1576OiBizP@http://gutshof-lindstedt.de/
DTSTAMP:20260420T182756Z
DESCRIPTION: http://gutshof-lindstedt.de/index.php/component/rseventspro/ev
 ent/385-malen-mit-aquarelltechnik-mit-martina-reimann?Itemid=101
DTSTART:20250921T100000Z
DTEND:20250921T130000Z
LOCATION:Gutshof Lindstedt (Zum Lindengut 77 \, Gardelegen \, Germany)
SUMMARY:Malen mit Aquarelltechnik (mit Martina Reimann)
URL:http://gutshof-lindstedt.de/index.php/component/rseventspro/event/385-m
 alen-mit-aquarelltechnik-mit-martina-reimann?Itemid=101
END:VEVENT
END:VCALENDAR
