BEGIN:VCALENDAR
VERSION:2.0
PRODID:-//http://gutshof-lindstedt.de///NONSGML kigkonsult.se iCalcreator 2.10.15//
METHOD:PUBLISH
BEGIN:VEVENT
UID:20260421T155502CEST-4049gRVg4z@http://gutshof-lindstedt.de/
DTSTAMP:20260421T135502Z
DESCRIPTION:Hiermit laden wir Interessierte herzlich zum Workshop: Obstbaum
 schnitt ein. Im Rahmen des Workshops wird Ihnen unser Experte Patrick Ludw
 ig die Grundlagen des Obstbaumschnitts in Theorie und Praxis vermitteln. E
 r selbst beschäftigt sich seit vielen Jahren mit diesem Thema und seine be
 sondere Leidenschaft gilt u.a. auch dem Veredeln von Obstbäumen\, um alte 
 regionale Obstsorten zu erhalten.\n+ + + ABLAUF + + +&nbsp\;Der Workshop g
 liedert sich in 2 Teile:\n1. Theorie im Gutshaus Inhalte des Theorie-Teils
 : Pomologie allgemein\, Aufbau und Biologie\, Entstehung und Geschichte vo
 n Sorten\, Werkzeugkunde\, Wuchsverhalten\, Stammbildner und Unterlagen\, 
 Schnittzeit: Sommerschnitt &amp\; Winterschnitt\, Wundbehandlung\, Kronenf
 ormen (Spindel\, Busch\, Offenkrone\, Pyramide)\, Pflanzschnitt &amp\; Ins
 tandhaltungsschnitt\, Wachstum und Fruchtholz\, häufige Fehler und ihre Au
 swirkungen etc.\n- - - Pause mit Mittagssnack - - -\n2. Praxis-Teil auf de
 n Streuobstwiesen des Gutshofes LindstedtPraktisches schneiden von Obst- b
 zw. Apfelbäumen auf den Streuobstwiesen des GutshofesDazu bitte folgendes 
 mitbringen:wetterfeste Kleidung und Schuhwerk/Stiefel\, Handschuhe\,Werkze
 ug: Gartenschere\, Astschere\, Ast- oder Handsäge\, wenn vorhanden auch ge
 rne eine Teleskop-Astschere/Schneidegiraffe\n+ + + TEILNAHMEGEBÜHR + + +  
 Die Teilnehmergebühr beträgt 15 €&nbsp\;zzgl. Verköstigung (Mittagssnack\,
  Getränke) bei Inanspruchnahme\n+ + + ANMELDUNG + + +&nbsp\;Anmelden für e
 ine Teilnahme können Sie sich per Telefon oder Whatsapp unter folgenden Nu
 mmer: 0173 - 6710150  Eine vorherige verbindliche Anmeldung zur Teilnahme 
 ist unbedingt erforderlich! Auf Grund der begrenzten Teilnehmerzahl empfeh
 len wir Interessierten eine frühzeitige Anmeldung.\n+ + + FRAGEN + + + Sol
 lten Sie Fragen zu dem Workshop haben\, können Sie uns gerne telefonsich o
 der per Whatsapp unter der Nummer 0173 - 6710150 kontaktieren. Wir beantwo
 rten ihre Fragen sehr gern.\n&nbsp\;\n&nbsp\; http://gutshof-lindstedt.de/
 index.php/component/rseventspro/event/376-workshop-obstbaumschnitt?Itemid=
 101
DTSTART:20250308T100000Z
DTEND:20250308T150000Z
LOCATION:Gutshof Lindstedt (Zum Lindengut 77 \, Gardelegen \, Germany)
SUMMARY:Workshop: Obstbaumschnitt
URL:http://gutshof-lindstedt.de/index.php/component/rseventspro/event/376-w
 orkshop-obstbaumschnitt?Itemid=101
END:VEVENT
END:VCALENDAR
