BEGIN:VCALENDAR
VERSION:2.0
PRODID:-//http://gutshof-lindstedt.de///NONSGML kigkonsult.se iCalcreator 2.10.15//
METHOD:PUBLISH
BEGIN:VEVENT
UID:20260420T170939CEST-9683Iu6ir2@http://gutshof-lindstedt.de/
DTSTAMP:20260420T150939Z
DESCRIPTION:Wir freuen uns darauf ab diesen Jahr wieder der allseits belieb
 ten Adventsmarkt auf dem Gutshof zu veranstalten.\nAktuell sind wir noch d
 abei Austeller\, Anbieter usw. usw. für den ◦M◦A◦R◦K◦T◦ ◦D◦E◦R◦ ◦S◦C◦H◦Ö◦N
 ◦E◦N◦ ◦D◦I◦N◦G◦E◦ zusammenzustellen.Dazu kannst du uns gerne kontaktieren\
 , d.h. wenn du einen Verkaufsstand\, Mitmach-/Workshopstand oder eine sons
 tige schöne Idee hast\, was du auf dem Adventsmarkt den Gästen bieten\, an
 bieten\, verkaufen usw. möchtest.\nKontakt: Anja Rohrdiek\, Telefon oder W
 hatsapp: +49&nbsp\;172&nbsp\;4306695... UND FOLGENDES STEHT SCHON FEST: \n
 Vormerken\, weitersagen &amp\; ◦D◦A◦B◦E◦I◦ ◦S◦E◦I◦N◦!.Die Region Lindstedt
  lädt Euch herzlich zum Adventsmarkt in die rustikal-liebevoll gestaltete 
 heimelige #Fachwerkscheune1788 auf dem Gutshof Lindstedt ein. Die Programm
 punkte# Laien-Schauspiel 'Dornröschen'# Männerchor &amp\; Jagdhornbläser a
 us Lindstedt# LiveMusik mit Tick2Loud# Feuerakrobatik# BastelStube für Kin
 der im #Gutshaus1704 Wie immer wird es bei diesem gesellig-heimeligen High
 light eine Menge Kultur geben und es werden ausgewählte\, regionale Verkau
 fsstände auf dem ◦M◦A◦R◦K◦T◦ ◦D◦E◦R◦ ◦S◦C◦H◦Ö◦N◦E◦N◦ ◦D◦I◦N◦G◦E◦ vor Ort s
 ein (Geschenke\, Floristik\, Handwerk\, Accessoires u.v.m.).Allerlei lecke
 re Speisen und Getränke sorgen fürs leibliche Wohl und runden die Veransta
 ltung ab. Wir freuen uns auf einen schönen Nachmittag und Abend\, um gemei
 nsam mit Euch in die Adventszeit zu starten!#Advent | #Adventsmarkt #Fachw
 erkscheune1788 | #Gutshof_Lindstedt | #Lindstedt | #Region_Lindstedt | #Ga
 rdelegen | #Altmark http://gutshof-lindstedt.de/index.php/component/rseven
 tspro/event/361-lindstedter-adventsmarkt-auf-dem-gutshof-lindstedt?Itemid=
 101
DTSTART:20231202T150000Z
DTEND:20231202T210000Z
LOCATION:Gutshof Lindstedt (Zum Lindengut 77 \, Gardelegen \, Germany)
SUMMARY:Lindstedter Adventsmarkt auf dem Gutshof Lindstedt
URL:http://gutshof-lindstedt.de/index.php/component/rseventspro/event/361-l
 indstedter-adventsmarkt-auf-dem-gutshof-lindstedt?Itemid=101
END:VEVENT
END:VCALENDAR
